BEGIN:VCALENDAR
VERSION:2.0
PRODID:-//Southern District of The Lutheran Church—Missouri Synod - ECPv6.15.20//NONSGML v1.0//EN
CALSCALE:GREGORIAN
METHOD:PUBLISH
X-ORIGINAL-URL:https://www.southernlcms.org
X-WR-CALDESC:Events for Southern District of The Lutheran Church—Missouri Synod
REFRESH-INTERVAL;VALUE=DURATION:PT1H
X-Robots-Tag:noindex
X-PUBLISHED-TTL:PT1H
BEGIN:VTIMEZONE
TZID:America/Chicago
BEGIN:DAYLIGHT
TZOFFSETFROM:-0600
TZOFFSETTO:-0500
TZNAME:CDT
DTSTART:20240310T080000
END:DAYLIGHT
BEGIN:STANDARD
TZOFFSETFROM:-0500
TZOFFSETTO:-0600
TZNAME:CST
DTSTART:20241103T070000
END:STANDARD
BEGIN:DAYLIGHT
TZOFFSETFROM:-0600
TZOFFSETTO:-0500
TZNAME:CDT
DTSTART:20250309T080000
END:DAYLIGHT
BEGIN:STANDARD
TZOFFSETFROM:-0500
TZOFFSETTO:-0600
TZNAME:CST
DTSTART:20251102T070000
END:STANDARD
BEGIN:DAYLIGHT
TZOFFSETFROM:-0600
TZOFFSETTO:-0500
TZNAME:CDT
DTSTART:20260308T080000
END:DAYLIGHT
BEGIN:STANDARD
TZOFFSETFROM:-0500
TZOFFSETTO:-0600
TZNAME:CST
DTSTART:20261101T070000
END:STANDARD
END:VTIMEZONE
BEGIN:VEVENT
DTSTART;TZID=America/Chicago:20250912T130000
DTEND;TZID=America/Chicago:20250912T170000
DTSTAMP:20260420T042247
CREATED:20251029T221042Z
LAST-MODIFIED:20251029T221608Z
UID:10000002-1757682000-1757696400@www.southernlcms.org
SUMMARY:Board of Directors Meeting
DESCRIPTION:
URL:https://www.southernlcms.org/event/board-of-directors-meeting/
CATEGORIES:Board of Directors,Meetings
END:VEVENT
BEGIN:VEVENT
DTSTART;TZID=America/Chicago:20250608T150000
DTEND;TZID=America/Chicago:20250608T180000
DTSTAMP:20260420T042247
CREATED:20250409T020418Z
LAST-MODIFIED:20251030T200949Z
UID:10000001-1749394800-1749405600@www.southernlcms.org
SUMMARY:Installation
DESCRIPTION:
URL:https://www.southernlcms.org/event/installation/
LOCATION:District Office\, 100 Mission Drive\, Slidell\, LA\, 70460\, United States
CATEGORIES:Events,Installations
ATTACH;FMTTYPE=image/avif:https://www.southernlcms.org/wp-content/uploads/2021/05/LSB-Icon_009-e1761854787325.avif
GEO:30.3251455;-89.8266049
X-APPLE-STRUCTURED-LOCATION;VALUE=URI;X-ADDRESS=District Office 100 Mission Drive Slidell LA 70460 United States;X-APPLE-RADIUS=500;X-TITLE=100 Mission Drive:geo:-89.8266049,30.3251455
END:VEVENT
END:VCALENDAR